BEGIN:VCALENDAR
VERSION:2.0
PRODID:-//I-SUP - Siren SUP - ECPv6.15.16//NONSGML v1.0//EN
CALSCALE:GREGORIAN
METHOD:PUBLISH
X-ORIGINAL-URL:https://i-sup.de
X-WR-CALDESC:Veranstaltungen für I-SUP - Siren SUP
REFRESH-INTERVAL;VALUE=DURATION:PT1H
X-Robots-Tag:noindex
X-PUBLISHED-TTL:PT1H
BEGIN:VTIMEZONE
TZID:Europe/Paris
BEGIN:DAYLIGHT
TZOFFSETFROM:+0100
TZOFFSETTO:+0200
TZNAME:CEST
DTSTART:20250330T010000
END:DAYLIGHT
BEGIN:STANDARD
TZOFFSETFROM:+0200
TZOFFSETTO:+0100
TZNAME:CET
DTSTART:20251026T010000
END:STANDARD
BEGIN:DAYLIGHT
TZOFFSETFROM:+0100
TZOFFSETTO:+0200
TZNAME:CEST
DTSTART:20260329T010000
END:DAYLIGHT
BEGIN:STANDARD
TZOFFSETFROM:+0200
TZOFFSETTO:+0100
TZNAME:CET
DTSTART:20261025T010000
END:STANDARD
BEGIN:DAYLIGHT
TZOFFSETFROM:+0100
TZOFFSETTO:+0200
TZNAME:CEST
DTSTART:20270328T010000
END:DAYLIGHT
BEGIN:STANDARD
TZOFFSETFROM:+0200
TZOFFSETTO:+0100
TZNAME:CET
DTSTART:20271031T010000
END:STANDARD
END:VTIMEZONE
BEGIN:VEVENT
DTSTART;VALUE=DATE:20260329
DTEND;VALUE=DATE:20260330
DTSTAMP:20260423T104743
CREATED:20260218T143339Z
LAST-MODIFIED:20260219T163454Z
UID:22073-1774742400-1774828799@i-sup.de
SUMMARY:Großer Preis von Beyenburg - NRW SUP CUP
DESCRIPTION:Der Große Preis von Beyenburg ist der zweite Teil des NRW SUP Cup. Auf dem Beyenburger Stausee findet dabei ein Long Distance Rennen über 12 km statt.
URL:https://i-sup.de/event/grosser-preis-von-beyenburg-nrw-sup-cup/
LOCATION:VfK Wuppertal e. V.\, Ackersiepen 98a\, Ennepetal\, 58256\, Germany
CATEGORIES:SUP Rennen
END:VEVENT
BEGIN:VEVENT
DTSTART;TZID=Europe/Paris:20260329T080000
DTEND;TZID=Europe/Paris:20260402T170000
DTSTAMP:20260423T104743
CREATED:20260224T151150Z
LAST-MODIFIED:20260224T151721Z
UID:22271-1774771200-1775149200@i-sup.de
SUMMARY:GSUPA Youngsters Camp
DESCRIPTION:In den GSUPA Youngsters Camp arbeiten erfahrene und erfolgreiche SUP-Coaches aus den Reihen des Deutschen Stand Up Paddle Verbandes mit Kindern aus ganz Deutschland und dem angrenzenden Ausland. \nDie teilnehmenden Kinder sollten im Alter zwischen 10 und 17 Jahren sein (Ausnahmen auf Anfrage) und über ausreichend SUP-Vorkenntnisse verfügen.
URL:https://i-sup.de/event/gsupa-youngsters-camp/
LOCATION:Baldeneysee\, Im Löwental 9\, Essen\, 45239
CATEGORIES:Ausbildung
END:VEVENT
END:VCALENDAR