BEGIN:VCALENDAR
VERSION:2.0
PRODID:-//I-SUP - Siren SUP - ECPv6.15.16//NONSGML v1.0//EN
CALSCALE:GREGORIAN
METHOD:PUBLISH
X-ORIGINAL-URL:https://i-sup.de
X-WR-CALDESC:Veranstaltungen für I-SUP - Siren SUP
REFRESH-INTERVAL;VALUE=DURATION:PT1H
X-Robots-Tag:noindex
X-PUBLISHED-TTL:PT1H
BEGIN:VTIMEZONE
TZID:Europe/Paris
BEGIN:DAYLIGHT
TZOFFSETFROM:+0100
TZOFFSETTO:+0200
TZNAME:CEST
DTSTART:20250330T010000
END:DAYLIGHT
BEGIN:STANDARD
TZOFFSETFROM:+0200
TZOFFSETTO:+0100
TZNAME:CET
DTSTART:20251026T010000
END:STANDARD
BEGIN:DAYLIGHT
TZOFFSETFROM:+0100
TZOFFSETTO:+0200
TZNAME:CEST
DTSTART:20260329T010000
END:DAYLIGHT
BEGIN:STANDARD
TZOFFSETFROM:+0200
TZOFFSETTO:+0100
TZNAME:CET
DTSTART:20261025T010000
END:STANDARD
BEGIN:DAYLIGHT
TZOFFSETFROM:+0100
TZOFFSETTO:+0200
TZNAME:CEST
DTSTART:20270328T010000
END:DAYLIGHT
BEGIN:STANDARD
TZOFFSETFROM:+0200
TZOFFSETTO:+0100
TZNAME:CET
DTSTART:20271031T010000
END:STANDARD
END:VTIMEZONE
BEGIN:VEVENT
DTSTART;VALUE=DATE:20260418
DTEND;VALUE=DATE:20260420
DTSTAMP:20260421T121850
CREATED:20260218T143339Z
LAST-MODIFIED:20260219T163509Z
UID:22074-1776470400-1776643199@i-sup.de
SUMMARY:WKG Island Race - NRW SUP CUP
DESCRIPTION:Das WKG Island Race ist der dritte Teil des NRW SUP Cup. Auf der 6-Seen-Platte finden dabei Technical Race und Long Distance Rennen über 6 oder 10\,6 km statt.
URL:https://i-sup.de/event/wkg-island-race-nrw-sup-cup/
LOCATION:Wanheimer Kanu-Gilde e.V.\, Kalkweg 266\, Duisburg\, 47249\, Germany
CATEGORIES:SUP Rennen
END:VEVENT
BEGIN:VEVENT
DTSTART;TZID=Europe/Paris:20260418T080000
DTEND;TZID=Europe/Paris:20260419T170000
DTSTAMP:20260421T121850
CREATED:20260223T145814Z
LAST-MODIFIED:20260223T145814Z
UID:22262-1776499200-1776618000@i-sup.de
SUMMARY:GSUPA Ausbildung SUP Instructor
DESCRIPTION:Die Ausbildung zum GSUPA SUP-Instruktor bildet das Fundament für eine professionelle Tätigkeit als Trainer im Stand-Up-Paddling und bietet eine anerkannte Basisqualifikation für das Unterrichten im Flachwasser. Zu den Voraussetzungen gehören Volljährigkeit\, ein Erste-Hilfe-Kurs\, das Rettungsschwimmabzeichen in Bronze sowie fundierte Paddelerfahrung. Der Fokus liegt auf der Kursplanung\, fortgeschrittenen Techniken wie Pivot-Turns und Sicherheitsaspekten wie Rettungsmethoden. Die praktische Prüfung umfasst einen Sprint (700m in unter 8 Min.)\, während die Theorie via Multiple-Choice abgeprüft wird. Nach erfolgreichem Abschluss sind die Teilnehmer berechtigt\, an GSUPA-zertifizierten Stationen zu unterrichten. Weitere Informationen finden sich auf der Seite der GSUPA
URL:https://i-sup.de/event/gsupa-ausbildung-sup-instructor/
LOCATION:Oldenburg\, Achterdiek 3\, Oldenburg\, 26122\, Germany
CATEGORIES:Ausbildung
END:VEVENT
END:VCALENDAR