BEGIN:VCALENDAR
VERSION:2.0
PRODID:-//I-SUP - Siren SUP - ECPv6.15.16//NONSGML v1.0//EN
CALSCALE:GREGORIAN
METHOD:PUBLISH
X-ORIGINAL-URL:https://i-sup.de
X-WR-CALDESC:Veranstaltungen für I-SUP - Siren SUP
REFRESH-INTERVAL;VALUE=DURATION:PT1H
X-Robots-Tag:noindex
X-PUBLISHED-TTL:PT1H
BEGIN:VTIMEZONE
TZID:Europe/Paris
BEGIN:DAYLIGHT
TZOFFSETFROM:+0100
TZOFFSETTO:+0200
TZNAME:CEST
DTSTART:20250330T010000
END:DAYLIGHT
BEGIN:STANDARD
TZOFFSETFROM:+0200
TZOFFSETTO:+0100
TZNAME:CET
DTSTART:20251026T010000
END:STANDARD
BEGIN:DAYLIGHT
TZOFFSETFROM:+0100
TZOFFSETTO:+0200
TZNAME:CEST
DTSTART:20260329T010000
END:DAYLIGHT
BEGIN:STANDARD
TZOFFSETFROM:+0200
TZOFFSETTO:+0100
TZNAME:CET
DTSTART:20261025T010000
END:STANDARD
BEGIN:DAYLIGHT
TZOFFSETFROM:+0100
TZOFFSETTO:+0200
TZNAME:CEST
DTSTART:20270328T010000
END:DAYLIGHT
BEGIN:STANDARD
TZOFFSETFROM:+0200
TZOFFSETTO:+0100
TZNAME:CET
DTSTART:20271031T010000
END:STANDARD
END:VTIMEZONE
BEGIN:VEVENT
DTSTART;VALUE=DATE:20260425
DTEND;VALUE=DATE:20260427
DTSTAMP:20260421T121836
CREATED:20260310T165850Z
LAST-MODIFIED:20260310T165850Z
UID:22305-1777075200-1777247999@i-sup.de
SUMMARY:Dresden: SUP Yoga Ausbildung
DESCRIPTION:hast du das zeug zum WOGA® InstrucTor?\n\n\nDu liebst Wasser und Yoga und spielst mit dem Gedanken\, selbst zu unterrichten? \nOb du alle notwendigen Grundvoraussetzungen für die offizielle Anmeldung zur WOGA SUP-Yoga-Instructor-Ausbildung erfüllst\, klären wir gemeinsam in einem persönlichen Infogespräch. \nBei diesem kostenlosen Beratungstermin spricht die Gründerin Julia Klesse persönlich mit dir. \nSie erklärt dir den genauen Ablauf der Ausbildung\, beantwortet all deine Fragen und prüft mit dir\, ob die Ausbildung aktuell der richtige Schritt für dich ist. \nNutze diese Chance und finde heraus\, ob SUP Yoga dein Weg ist. \n👉 Buche jetzt dein persönliches kostenloses Infogespräch.
URL:https://i-sup.de/event/dresden-sup-yoga-ausbildung/
LOCATION:Dresden\, Pratzschwitzer Str. 198\, Pirna\, 01796\, Germany
CATEGORIES:Ausbildung
END:VEVENT
BEGIN:VEVENT
DTSTART;VALUE=DATE:20260426
DTEND;VALUE=DATE:20260427
DTSTAMP:20260421T121836
CREATED:20260218T143344Z
LAST-MODIFIED:20260219T163524Z
UID:22075-1777161600-1777247999@i-sup.de
SUMMARY:NRW Kanu Rally - NRW SUP CUP
DESCRIPTION:Die NRW Kanu Rally ist der vierte Teil des NRW SUP Cup. Auf der Ruhr finden dabei Long Distance Rennen über 3 Etappen (24\, 36\, 44 km) statt.
URL:https://i-sup.de/event/nrw-kanu-rally-nrw-sup-cup/
LOCATION:WKG Witten\, Uferstr. 23\, Witten\, 58452\, Germany
CATEGORIES:SUP Rennen
END:VEVENT
BEGIN:VEVENT
DTSTART;VALUE=DATE:20260426
DTEND;VALUE=DATE:20260427
DTSTAMP:20260421T121836
CREATED:20260220T081004Z
LAST-MODIFIED:20260220T081004Z
UID:22226-1777161600-1777247999@i-sup.de
SUMMARY:SUP-Anpaddeln des Kanubezirks Hannover
DESCRIPTION:Das SUP-Anpaddeln findet am 26. April 2026 statt und lädt alle Stand-Up-Paddler des Bezirks ein\, gemeinsam die Saison zu eröffnen. Die abwechslungsreiche Strecke führt über eine Distanz von 18 Kilometern flussabwärts von Sarstedt bis zum Bootshaus des Paddel-Klubs Hannover. Als besonderes Highlight befahren die Teilnehmer die Innerste bis zu deren Mündung in die Leine\, was ein schönes Naturerlebnis garantiert. Der Treffpunkt in Sarstedt ist für den Vormittag angesetzt\, wobei die genauen Startzeiten beim Kanu-Bezirk Hannover erfragt werden können. Da es sich um eine Streckentour handelt\, müssen Teilnehmer den Rücktransport zu ihren Fahrzeugen in Eigenregie oder nach Absprache organisieren. Die Tour ist als Gemeinschaftsfahrt ausgeschrieben und fördert den Austausch zwischen den Vereinen und Einzelmitgliedern des Bezirks. Eine Anmeldung beim Bezirkswandersportwart ist notwendig\, um die Teilnehmerzahl für die abschließende Bewirtung im Ziel planen zu können. Am Zielort beim Paddel-Klub Hannover (PKH) erwartet die Paddler meist ein geselliges Beisammensein mit Kaffee\, Kuchen oder Gegrilltem. Da die Gewässer im April noch sehr kalt sein können\, ist das Tragen von Kälteschutzkleidung (Neopren oder Trockenanzug) dringend empfohlen. Die Veranstaltung richtet sich an Paddler mit solider Grundkondition\, die die 18 Kilometer sicher stehend bewältigen können.
URL:https://i-sup.de/event/sup-anpaddeln-des-kanubezirks-hannover/
LOCATION:Sarstedt\, Glückaufstr. 1a\, Sarstedt\, 31157\, Germany
CATEGORIES:SUP Vereinsveranstaltung
END:VEVENT
END:VCALENDAR