BEGIN:VCALENDAR
VERSION:2.0
PRODID:-//I-SUP - Siren SUP - ECPv6.15.16//NONSGML v1.0//EN
CALSCALE:GREGORIAN
METHOD:PUBLISH
X-WR-CALNAME:I-SUP - Siren SUP
X-ORIGINAL-URL:https://i-sup.de
X-WR-CALDESC:Veranstaltungen für I-SUP - Siren SUP
REFRESH-INTERVAL;VALUE=DURATION:PT1H
X-Robots-Tag:noindex
X-PUBLISHED-TTL:PT1H
BEGIN:VTIMEZONE
TZID:Europe/Paris
BEGIN:DAYLIGHT
TZOFFSETFROM:+0100
TZOFFSETTO:+0200
TZNAME:CEST
DTSTART:20250330T010000
END:DAYLIGHT
BEGIN:STANDARD
TZOFFSETFROM:+0200
TZOFFSETTO:+0100
TZNAME:CET
DTSTART:20251026T010000
END:STANDARD
BEGIN:DAYLIGHT
TZOFFSETFROM:+0100
TZOFFSETTO:+0200
TZNAME:CEST
DTSTART:20260329T010000
END:DAYLIGHT
BEGIN:STANDARD
TZOFFSETFROM:+0200
TZOFFSETTO:+0100
TZNAME:CET
DTSTART:20261025T010000
END:STANDARD
BEGIN:DAYLIGHT
TZOFFSETFROM:+0100
TZOFFSETTO:+0200
TZNAME:CEST
DTSTART:20270328T010000
END:DAYLIGHT
BEGIN:STANDARD
TZOFFSETFROM:+0200
TZOFFSETTO:+0100
TZNAME:CET
DTSTART:20271031T010000
END:STANDARD
END:VTIMEZONE
BEGIN:VEVENT
DTSTART;TZID=Europe/Paris:20260501T080000
DTEND;TZID=Europe/Paris:20260503T170000
DTSTAMP:20260423T131024
CREATED:20260223T144610Z
LAST-MODIFIED:20260330T095420Z
UID:22258-1777622400-1777827600@i-sup.de
SUMMARY:6. Woga SUP Yoga Convention
DESCRIPTION:Vom\n1. bis 3. Mai 2026 wird die 6. WOGA SUP Yoga Convention erneut ein besonderes Highlight für Yoga- und Wassersport-Begeisterte in Pirna sein. Die Veranstaltung findet an der idyllischen WOGA SUP Yoga Station direkt am Badesee Birkwitz in der Pratzschwitzer Str. 198 statt. Während dieser drei Tage dreht sich alles um die Verbindung von Stand-Up-Paddling und Yoga-Übungen auf dem Wasser. Die Teilnehmer nutzen dabei spezielle SUP-Boards als schwimmende Yogamatten\, um Balance und Achtsamkeit in der Natur zu trainieren. \n\nDas Programm richtet sich sowohl an erfahrene „Yogis“ als auch an neugierige Neueinsteiger\, die Lust auf einen Perspektivwechsel haben. Neben den intensiven Kursen auf dem See sorgt eine Vollverpflegung dafür\, dass sich alle Gäste rundum wohlfühlen. Ein besonderes Merkmal der Convention ist die familiäre und magische Atmosphäre\, die durch das gemeinschaftliche Erleben entsteht. Wer sich zwischendurch aufwärmen möchte\, kann die hauseigene Sauna direkt am Wasser nutzen. Die Gründerin Julia Klesse und ihr Team führen die Teilnehmer mit viel Expertise durch die verschiedenen Sessions und Workshops. Für alle Interessierten bietet dieses Event die perfekte Gelegenheit\, dem Alltag zu entfliehen und neue Energie zu tanken.
URL:https://i-sup.de/event/6-woga-convention/
LOCATION:Pirna\, Pratzschwitzer Str. 198\, Pirna\, 01796\, Germany
CATEGORIES:Ausbildung
END:VEVENT
BEGIN:VEVENT
DTSTART;TZID=Europe/Paris:20260502T080000
DTEND;TZID=Europe/Paris:20260503T170000
DTSTAMP:20260423T131024
CREATED:20260223T150053Z
LAST-MODIFIED:20260223T150053Z
UID:22265-1777708800-1777827600@i-sup.de
SUMMARY:GSUPA Ausbildung SUP Instruktor
DESCRIPTION:Die Ausbildung zum GSUPA SUP-Instruktor bildet das Fundament für eine professionelle Tätigkeit als Trainer im Stand-Up-Paddling und bietet eine anerkannte Basisqualifikation für das Unterrichten im Flachwasser. Zu den Voraussetzungen gehören Volljährigkeit\, ein Erste-Hilfe-Kurs\, das Rettungsschwimmabzeichen in Bronze sowie fundierte Paddelerfahrung. Der Fokus liegt auf der Kursplanung\, fortgeschrittenen Techniken wie Pivot-Turns und Sicherheitsaspekten wie Rettungsmethoden. Die praktische Prüfung umfasst einen Sprint (700m in unter 8 Min.)\, während die Theorie via Multiple-Choice abgeprüft wird. Nach erfolgreichem Abschluss sind die Teilnehmer berechtigt\, an GSUPA-zertifizierten Stationen zu unterrichten. Weitere Informationen finden sich auf der Seite der GSUPA
URL:https://i-sup.de/event/gsupa-ausbildung-sup-instruktor/
LOCATION:Baldeneysee\, Im Löwental 9\, Essen\, 45239
CATEGORIES:Ausbildung
END:VEVENT
END:VCALENDAR