BEGIN:VCALENDAR
VERSION:2.0
PRODID:-//I-SUP - Siren SUP - ECPv6.15.16//NONSGML v1.0//EN
CALSCALE:GREGORIAN
METHOD:PUBLISH
X-WR-CALNAME:I-SUP - Siren SUP
X-ORIGINAL-URL:https://i-sup.de
X-WR-CALDESC:Veranstaltungen für I-SUP - Siren SUP
REFRESH-INTERVAL;VALUE=DURATION:PT1H
X-Robots-Tag:noindex
X-PUBLISHED-TTL:PT1H
BEGIN:VTIMEZONE
TZID:Europe/Paris
BEGIN:DAYLIGHT
TZOFFSETFROM:+0100
TZOFFSETTO:+0200
TZNAME:CEST
DTSTART:20250330T010000
END:DAYLIGHT
BEGIN:STANDARD
TZOFFSETFROM:+0200
TZOFFSETTO:+0100
TZNAME:CET
DTSTART:20251026T010000
END:STANDARD
BEGIN:DAYLIGHT
TZOFFSETFROM:+0100
TZOFFSETTO:+0200
TZNAME:CEST
DTSTART:20260329T010000
END:DAYLIGHT
BEGIN:STANDARD
TZOFFSETFROM:+0200
TZOFFSETTO:+0100
TZNAME:CET
DTSTART:20261025T010000
END:STANDARD
BEGIN:DAYLIGHT
TZOFFSETFROM:+0100
TZOFFSETTO:+0200
TZNAME:CEST
DTSTART:20270328T010000
END:DAYLIGHT
BEGIN:STANDARD
TZOFFSETFROM:+0200
TZOFFSETTO:+0100
TZNAME:CET
DTSTART:20271031T010000
END:STANDARD
END:VTIMEZONE
BEGIN:VEVENT
DTSTART;VALUE=DATE:20260508
DTEND;VALUE=DATE:20260511
DTSTAMP:20260423T131021
CREATED:20260218T143345Z
LAST-MODIFIED:20260219T163615Z
UID:22076-1778198400-1778457599@i-sup.de
SUMMARY:XXL Paddelfestival - DM SUP Wildwasser
DESCRIPTION:Das XXL Paddelfestival in Markkleeberg ist ein Testival\, Messe und Austragungsort der Deutschen Meisterschaft im SUP Wildwasser.
URL:https://i-sup.de/event/xxl-paddelfestival-dm-sup-wildwasser/
LOCATION:Kanupark Markkleeberg\, Wildwasserkehre 1\, Markkleeberg\, 04416\, Germany
CATEGORIES:SUP Rennen,SUP Testveranstaltung und Messe
END:VEVENT
END:VCALENDAR