BEGIN:VCALENDAR
VERSION:2.0
PRODID:-//I-SUP - Siren SUP - ECPv6.15.16//NONSGML v1.0//EN
CALSCALE:GREGORIAN
METHOD:PUBLISH
X-WR-CALNAME:I-SUP - Siren SUP
X-ORIGINAL-URL:https://i-sup.de
X-WR-CALDESC:Veranstaltungen für I-SUP - Siren SUP
REFRESH-INTERVAL;VALUE=DURATION:PT1H
X-Robots-Tag:noindex
X-PUBLISHED-TTL:PT1H
BEGIN:VTIMEZONE
TZID:Europe/Paris
BEGIN:DAYLIGHT
TZOFFSETFROM:+0100
TZOFFSETTO:+0200
TZNAME:CEST
DTSTART:20250330T010000
END:DAYLIGHT
BEGIN:STANDARD
TZOFFSETFROM:+0200
TZOFFSETTO:+0100
TZNAME:CET
DTSTART:20251026T010000
END:STANDARD
BEGIN:DAYLIGHT
TZOFFSETFROM:+0100
TZOFFSETTO:+0200
TZNAME:CEST
DTSTART:20260329T010000
END:DAYLIGHT
BEGIN:STANDARD
TZOFFSETFROM:+0200
TZOFFSETTO:+0100
TZNAME:CET
DTSTART:20261025T010000
END:STANDARD
BEGIN:DAYLIGHT
TZOFFSETFROM:+0100
TZOFFSETTO:+0200
TZNAME:CEST
DTSTART:20270328T010000
END:DAYLIGHT
BEGIN:STANDARD
TZOFFSETFROM:+0200
TZOFFSETTO:+0100
TZNAME:CET
DTSTART:20271031T010000
END:STANDARD
END:VTIMEZONE
BEGIN:VEVENT
DTSTART;VALUE=DATE:20260514
DTEND;VALUE=DATE:20260518
DTSTAMP:20260423T115842
CREATED:20260218T143345Z
LAST-MODIFIED:20260219T165724Z
UID:22077-1778716800-1779062399@i-sup.de
SUMMARY:The Lake Rocks Festival – SUP Alps Trophy
DESCRIPTION:Das „The Lake Rocks Festival“ am Faaker See in Finkenstein bei Villach (Österreich) ist der erste Tour-Stopp der SUP Alps Trophy. Es ist ein ICF Worldcup Event und beinhaltet die Disziplinen SUP Aircross\, Big SUP Race\, Fun Race\, Fastest Paddler\, Tech Race & Pro Long Distance. Außerdem ist es auch eine Materialtest-Veranstaltung.
URL:https://i-sup.de/event/the-lake-rocks-sup-alps-trophy/
LOCATION:Faaker See\, Finkenstein\, 9583\, Austria
CATEGORIES:SUP Rennen,SUP Testveranstaltung und Messe
END:VEVENT
BEGIN:VEVENT
DTSTART;VALUE=DATE:20260517
DTEND;VALUE=DATE:20260518
DTSTAMP:20260423T115842
CREATED:20260218T143345Z
LAST-MODIFIED:20260220T085842Z
UID:22078-1778976000-1779062399@i-sup.de
SUMMARY:Norden Rocks - SUP Wildwasser Event
DESCRIPTION:Das Event „Norden Rocks 6“ findet am Sonntag\, den 17. Mai 2026\, an der Bischofsmühle in Hildesheim statt. Es gilt als die größte Wildwasser-Veranstaltung für Stand-Up-Paddling (SUP) in Norddeutschland und wird oft als inoffizielle Norddeutsche Meisterschaft bezeichnet. Im Mittelpunkt stehen spannende Wettkämpfe wie das Einer-SUP (Boarder Cross) und temporeiche Speed Races. Zusätzlich gibt es spezielle Formate wie das Kids Race für den Nachwuchs sowie eine Team Challenge für gemeinsame Erfolge. Die Teilnahmegebühr beträgt 49\,00 € pro Person. In diesem Preis sind bereits die Startgebühr\, ein offizielles Event-T-Shirt und ein Mittagessen enthalten. Veranstaltet wird das Spektakel von den Profis von Nature-Guides SUP Adventures. Die Anmeldung für die limitierten Startplätze erfolgt direkt über deren Online-Shop. Neben dem sportlichen Wettbewerb steht vor allem der Austausch innerhalb der SUP-Community im Vordergrund. Die Kulisse an der historischen Bischofsmühle bietet dabei eine ideale und publikumsnahe Strecke für alle Teilnehmer. \nHier sind die Details zum nächsten Event: \n    Event: Norden Rocks 6\n    Datum: 17. Mai 2026 (Sonntag)\n    Ort: Bischofsmühle Hildesheim\n    Programm: Einer-SUP (Boarder Cross)\, Speed Race\, Kids Race und Team Challenge.\n    Kosten: 49\,00 € (inklusive offizielles T-Shirt\, Startgebühr und Mittagessen).\n    Anmeldung: Über Nature-Guides SUP Adventures.
URL:https://i-sup.de/event/norden-rocks-sup-wildwasser-event/
LOCATION:Bischofsmühle\, Dammstr. 32\, Hildesheim\, 31134\, Germany
CATEGORIES:SUP Rennen
ATTACH;FMTTYPE=image/jpeg:https://i-sup.de/wp-content/uploads/2026/02/Nordenrocks300x300.jpg
END:VEVENT
END:VCALENDAR