BEGIN:VCALENDAR
VERSION:2.0
PRODID:-//I-SUP - Siren SUP - ECPv6.15.16//NONSGML v1.0//EN
CALSCALE:GREGORIAN
METHOD:PUBLISH
X-ORIGINAL-URL:https://i-sup.de
X-WR-CALDESC:Veranstaltungen für I-SUP - Siren SUP
REFRESH-INTERVAL;VALUE=DURATION:PT1H
X-Robots-Tag:noindex
X-PUBLISHED-TTL:PT1H
BEGIN:VTIMEZONE
TZID:Europe/Paris
BEGIN:DAYLIGHT
TZOFFSETFROM:+0100
TZOFFSETTO:+0200
TZNAME:CEST
DTSTART:20250330T010000
END:DAYLIGHT
BEGIN:STANDARD
TZOFFSETFROM:+0200
TZOFFSETTO:+0100
TZNAME:CET
DTSTART:20251026T010000
END:STANDARD
BEGIN:DAYLIGHT
TZOFFSETFROM:+0100
TZOFFSETTO:+0200
TZNAME:CEST
DTSTART:20260329T010000
END:DAYLIGHT
BEGIN:STANDARD
TZOFFSETFROM:+0200
TZOFFSETTO:+0100
TZNAME:CET
DTSTART:20261025T010000
END:STANDARD
BEGIN:DAYLIGHT
TZOFFSETFROM:+0100
TZOFFSETTO:+0200
TZNAME:CEST
DTSTART:20270328T010000
END:DAYLIGHT
BEGIN:STANDARD
TZOFFSETFROM:+0200
TZOFFSETTO:+0100
TZNAME:CET
DTSTART:20271031T010000
END:STANDARD
END:VTIMEZONE
BEGIN:VEVENT
DTSTART;VALUE=DATE:20260905
DTEND;VALUE=DATE:20260906
DTSTAMP:20260423T172039
CREATED:20260223T073952Z
LAST-MODIFIED:20260223T075114Z
UID:22254-1788566400-1788652799@i-sup.de
SUMMARY:Sunshine Reggae Tour am Banter See
DESCRIPTION:Am 05.09.2026 macht die Sunshine Reggae Tour Halt am wunderschönen Banter See und verwandelt das Gelände direkt am Wasser in eine entspannte Open-Air-Bühne voller guter Vibes. Veranstaltet wird das Ganze vom Kanu und Segelsportverein Wilhelmshaven e.V. von 1966\, dessen Vereinsgelände in der Benzstraße 8\, 26389 Wilhelmshaven liegt – nur ein paar Schritte vom Seeufer entfernt. Wenn warme Reggae-Beats auf die frische Nordseeluft treffen und die Sonne langsam über dem Wasser untergeht\, entsteht diese besondere Mischung aus Sommerfeeling\, Freiheit und Gemeinschaft. Zwischen tanzenden Menschen\, lachenden Gesichtern und entspannten Sounds fühlt sich der Abend ein bisschen wie ein Kurzurlaub in der Karibik an – nur eben direkt hier in Wilhelmshaven. Ob mit Freunden oder Familie\, wer Lust auf gute Musik\, lockere Stimmung und einen spätsommerlichen Abend in traumhafter Kulisse hat\, sollte sich dieses Event nicht entgehen lassen.
URL:https://i-sup.de/event/sunshine-reggae-tour-am-banter-see/
LOCATION:wilhelmshaven\, Benzstr. 8\, Wilhelmshaven\, 26389
CATEGORIES:SUP Vereinsveranstaltung
END:VEVENT
END:VCALENDAR